BEGIN:VCALENDAR
VERSION:2.0
PRODID:-//hacksw/handcal//NONSGML v1.0//EN
BEGIN:VEVENT
SUMMARY:Seance du Collectif Performance
UID:8fe1e8fa-4630-42b0-8e2e-a5befc16b4b3
DTSTART:20261024T220000Z
DTEND:20261025T220000Z
LOCATION:Localisation   
CATEGORIES:Sportif
STATUS:
URL;VALUE=URI:https://ploemeltir.sportsregions.fr/evenements/2026/10/25/seance-du-collectif-performance-2432665
END:VEVENT
END:VCALENDAR
