BEGIN:VCALENDAR
VERSION:2.0
PRODID:-//hacksw/handcal//NONSGML v1.0//EN
BEGIN:VEVENT
SUMMARY:Seance du Collectif Performance
UID:932105b1-94fb-48c8-8a83-afbbd9472798
DTSTART:20260919T220000Z
DTEND:20260920T220000Z
LOCATION:Localisation   
CATEGORIES:Sportif
STATUS:
URL;VALUE=URI:https://ploemeltir.sportsregions.fr/evenements/2026/09/20/seance-du-collectif-performance-2432663
END:VEVENT
END:VCALENDAR
