BEGIN:VCALENDAR
VERSION:2.0
PRODID:-//hacksw/handcal//NONSGML v1.0//EN
BEGIN:VEVENT
SUMMARY:Seance du Collectif Performance
UID:3b9fc1a3-24d3-446d-b15c-93647ec32ecc
DTSTART:20260718T220000Z
DTEND:20260719T220000Z
LOCATION:Localisation   
CATEGORIES:Sportif
STATUS:
URL;VALUE=URI:https://ploemeltir.sportsregions.fr/evenements/2026/07/19/seance-du-collectif-performance-2432660
END:VEVENT
END:VCALENDAR
