BEGIN:VCALENDAR
VERSION:2.0
PRODID:-//hacksw/handcal//NONSGML v1.0//EN
BEGIN:VEVENT
SUMMARY:Seance du Collectif Performance
UID:ad46a5b2-34dc-4718-a2dd-953b17332f2f
DTSTART:20260620T220000Z
DTEND:20260621T220000Z
LOCATION:Localisation   
CATEGORIES:Sportif
STATUS:
URL;VALUE=URI:https://ploemeltir.sportsregions.fr/evenements/2026/06/21/seance-du-collectif-performance-2432659
END:VEVENT
END:VCALENDAR
