BEGIN:VCALENDAR
VERSION:2.0
PRODID:-//hacksw/handcal//NONSGML v1.0//EN
BEGIN:VEVENT
SUMMARY:Seance du Collectif Performance
UID:a642bd03-2ae1-42e3-a264-29528b447262
DTSTART:20260516T220000Z
DTEND:20260517T220000Z
LOCATION:Localisation   
CATEGORIES:Sportif
STATUS:
URL;VALUE=URI:https://ploemeltir.sportsregions.fr/evenements/2026/05/17/seance-du-collectif-performance-2432657
END:VEVENT
END:VCALENDAR
