BEGIN:VCALENDAR
VERSION:2.0
PRODID:-//hacksw/handcal//NONSGML v1.0//EN
BEGIN:VEVENT
SUMMARY:Seance du Collectif Performance
UID:4604bb6b-4acf-4a75-95c0-9fa203d23039
DTSTART:20260425T220000Z
DTEND:20260426T220000Z
LOCATION:Localisation   
CATEGORIES:Sportif
STATUS:
URL;VALUE=URI:https://ploemeltir.sportsregions.fr/evenements/2026/04/26/seance-du-collectif-performance-2432656
END:VEVENT
END:VCALENDAR
